BEGIN:VCALENDAR
PRODID:-//hacksw/handcal//NONSGML v1.0//EN
VERSION:2.0
METHOD:PUBLISH
BEGIN:VEVENT
DTSTART:20210830T170000Z
DTEND:20210830T180000Z
LOCATION:Brio Italian Grille
UID:2150320210830T170000ZSolo/Small Firm Section Meeting
DTSTAMP:20260421T110754Z
DESCRIPTION:\nSOLO/SMALL FIRM SECTION MEETING\n \nMonday, August 30\n \nNoon-1pm\n \nThe Solo/Small Firm Section invites you to join us for an in-person luncheon where our focus will be on reconnecting with one another and getting to know new members (no CLE presentation). Don’t miss out on this fun opportunity. We look forward to seeing you! Please RSVP so that we have an accurate headcount.\n \nBrio Italian Grille\n \n810 Central Expressway\n \nAllen, Texas 75013\n \n \n
SUMMARY:Solo/Small Firm Section Meeting - Collin County Bar Association 
PRIORITY:3
BEGIN:VALARM
TRIGGER:PT18H
ACTION:DISPLAY
DESCRIPTION:Reminder
END:VALARM
END:VEVENT
END:VCALENDAR