BEGIN:VCALENDAR
PRODID:-//hacksw/handcal//NONSGML v1.0//EN
VERSION:2.0
METHOD:PUBLISH
BEGIN:VEVENT
DTSTART:20230919T223000Z
DTEND:20230920T003000Z
LOCATION:
UID:2450320230919T223000ZTrial Academy
DTSTAMP:20260421T230105Z
DESCRIPTION:\nAPPLICATIONS ARE CLOSED\n \nApplications will be received until August 18 (5:00 p.m) - see link below for details and application:\n \nhttps://www.collincountybar.org/assets/Councils/McKinney-TX/library/2023%20CCBA%20Trial%20Academy%20application.pdf\n \nSelection process will be completed no later than August 25.\n \nCost for selected participants will be $300 and payment must be received by September 8, 5:00 p.m. (there will be a payment option on the website)\n \nOrientation/happy hour will be 9/19, 5:30-7:30 (Mi Cocina)\n \nThe modules will be in Judge Bouressa's courtroom (468th District Court) on 9/22, 10/6 and 10/20\n \nGraduation/happy hour will be on 10/24 between 5:30 and 7:30\n It is mandatory that selected participants attend the following events: September 19th – Orientation – 5:30 pm – 7:30 pm September 22nd  – Modules 1 & 2 – 8:00 am – 4:30 pm October 6th – Modules 3 & 4 – 8:00 am – 4:30 pm October 20th – Modules 5 & 6 – 8:00 am – 4:30 pm October 24th – Graduation – 5:30 pm – 7:30 pm  \nPAYMENT IS FOR SELECTED PARTICIPANTS ONLY\n \nPAYMENT MUST BE RECEIVED BY SEPTEMBER 8, 5:00 P..M.\n \n \n
SUMMARY:Trial Academy - Collin County Bar Association 
PRIORITY:3
BEGIN:VALARM
TRIGGER:PT18H
ACTION:DISPLAY
DESCRIPTION:Reminder
END:VALARM
END:VEVENT
END:VCALENDAR