BEGIN:VCALENDAR
PRODID:-//hacksw/handcal//NONSGML v1.0//EN
VERSION:2.0
METHOD:PUBLISH
BEGIN:VEVENT
DTSTART:20260610T170000Z
DTEND:20260610T180000Z
LOCATION:
UID:2900320260610T170000ZAttorney Moms Section Meeting
DTSTAMP:20260422T182158Z
DESCRIPTION:\nThe Attorney Mom's section will meet at noon on June 10:\n \nNorth Italia, 7501 Windrose Ave., Ste D190, Plano, TX 75024 \nPlease RSVP to assistant@dpwoodlaw.com
SUMMARY:Attorney Moms Section Meeting - Collin County Bar Association 
PRIORITY:3
BEGIN:VALARM
TRIGGER:PT18H
ACTION:DISPLAY
DESCRIPTION:Reminder
END:VALARM
END:VEVENT
END:VCALENDAR