BEGIN:VCALENDAR
PRODID:-//hacksw/handcal//NONSGML v1.0//EN
VERSION:2.0
METHOD:PUBLISH
BEGIN:VEVENT
DTSTART:20260428T180000Z
DTEND:20260428T210000Z
LOCATION:
UID:2914220260428T180000ZJuvenile Law Section Seminar
DTSTAMP:20260421T160205Z
DESCRIPTION:\n \n \n\n \n \n \n \n
SUMMARY:Juvenile Law Section Seminar - Collin County Bar Association 
PRIORITY:3
BEGIN:VALARM
TRIGGER:PT18H
ACTION:DISPLAY
DESCRIPTION:Reminder
END:VALARM
END:VEVENT
END:VCALENDAR