BEGIN:VCALENDAR
PRODID:-//hacksw/handcal//NONSGML v1.0//EN
VERSION:2.0
METHOD:PUBLISH
BEGIN:VEVENT
DTSTART:20260626T183000Z
DTEND:20260626T210000Z
LOCATION:
UID:2914520260626T183000ZAttorney Moms Section  "Kids Law Day"
DTSTAMP:20260422T215928Z
DESCRIPTION:\n"Please mark your calendars and save the date for you and your child(ren) to attend this year's Kids’ Law Day,  hosted by the CCBA Attorney Moms Section on June 26th at the Collin County Courthouse.\n \n \n \nChildren will have the opportunity to participate in a scripted mock trial, tour the courtroom, gain behind-the-scenes insight from practicing attorneys, and interact with a Judge and other court staff.\n \n \n \nWhen: June 26, 2026 at 1:30 p.m.\n \nWhere: 493rd Judicial District Court, Honorable Christine A. Nowak, Collin County Courthouse, 2100 Bloomdale Road, McKinney TX\n \nWho:  Children ages 7 and up\n
SUMMARY:Attorney Moms Section  "Kids Law Day" - Collin County Bar Association 
PRIORITY:3
BEGIN:VALARM
TRIGGER:PT18H
ACTION:DISPLAY
DESCRIPTION:Reminder
END:VALARM
END:VEVENT
END:VCALENDAR