BEGIN:VCALENDAR
PRODID:-//hacksw/handcal//NONSGML v1.0//EN
VERSION:2.0
METHOD:PUBLISH
BEGIN:VEVENT
DTSTART:20260630T160000Z
DTEND:20260630T170000Z
LOCATION:
UID:2921920260630T160000ZYoung Lawyers
DTSTAMP:20260422T180525Z
DESCRIPTION:\nPLEASE CLICK ON "REGISTER" TO PAY THE NON-MEMBER FEE FOR THE FEBRUARY 15 BRUNCH\n
SUMMARY:Young Lawyers - Collin County Bar Association 
PRIORITY:3
BEGIN:VALARM
TRIGGER:PT18H
ACTION:DISPLAY
DESCRIPTION:Reminder
END:VALARM
END:VEVENT
END:VCALENDAR