BEGIN:VCALENDAR
PRODID:-//hacksw/handcal//NONSGML v1.0//EN
VERSION:2.0
METHOD:PUBLISH
BEGIN:VEVENT
DTSTART:20260530T153000Z
DTEND:20260530T180000Z
LOCATION:
UID:2945320260530T153000ZYoung Lawyers Pickleball Tournament and Brunch
DTSTAMP:20260422T181615Z
DESCRIPTION:\n \n \n\n \n \n$50 - Team (2 players) - Non-YL Section members \n$25 - Team (2 players) - Non-YL Section member and YL section member \n$0 - Team (2 players) - YL section members \n$25 - Single Player - Non-YL Section member \n$0 - Single Player - YL Section member \n$0 - Judiciary \n$25 - Brunch/Networking Only - Non-YL Section member \n$0 - Brunch/Networking Only - YL Section member \n$1250 - Sponsorship\n \nTEAMS: Provide Names of Players, Email Addresses and Team's Name (if applicable) IN THE "SPECIAL REQUESTS" OPTION\n
SUMMARY:Young Lawyers Pickleball Tournament and Brunch - Collin County Bar Association 
PRIORITY:3
BEGIN:VALARM
TRIGGER:PT18H
ACTION:DISPLAY
DESCRIPTION:Reminder
END:VALARM
END:VEVENT
END:VCALENDAR