BEGIN:VCALENDAR
PRODID:-//hacksw/handcal//NONSGML v1.0//EN
VERSION:2.0
METHOD:PUBLISH
BEGIN:VEVENT
DTSTART:20260514T170000Z
DTEND:20260514T180000Z
LOCATION:
UID:2945420260514T170000ZCorporate Counsel Section Meeting
DTSTAMP:20260422T214830Z
DESCRIPTION:\nJoin the Corporate Counsel Section for a virtual presentation on May 14 at Noon with Robert Tobey "Heading Malpractice Claims Off at the Pass".\n \n\n \n1.0 Ethics Hours\n \nRSVP with link below.\n \nIMPORTANT NOTE: THE CLE  and ZOOM LINK WILL BE DISPLAYED ON THE RSVP CONFIRMATION RECEIPT IMMEDIATELY AFTER REGISTRATION. SAVE THE LINKS FOR THE DAY OF THE MEETING!\n \nNOTE: All general meetings, section meetings, and events hosted by CCBA will be open to CCBA Members and guests of CCBA Members only. CCBA meetings and section meetings are not open to the general public any longer. If a non-member would like to attend a meeting or event, the non-member has the option of becoming a CCBA Member or have a current CCBA member sponsor his or her attendance at a meeting or event. Non-members please provide the member sponsor name in the "special request" section or you will be contacted for approved member sponsor name. You do not have to be a member of specific CCBA section to attend the meeting for that section, just a member of CCBA or a guest of a member of CCBA.. This is to protect the members of our Bar Association. NON-MEMBERS: Join the Collin County Bar Association (must join prior to registration to register as a member)\n
SUMMARY:Corporate Counsel Section Meeting - Collin County Bar Association 
PRIORITY:3
BEGIN:VALARM
TRIGGER:PT18H
ACTION:DISPLAY
DESCRIPTION:Reminder
END:VALARM
END:VEVENT
END:VCALENDAR