BEGIN:VCALENDAR
PRODID:-//hacksw/handcal//NONSGML v1.0//EN
VERSION:2.0
METHOD:PUBLISH
BEGIN:VEVENT
DTSTART:20260428T170000Z
DTEND:20260428T180000Z
LOCATION:
UID:2945520260428T170000ZSolo/Small Firm Section Meeting
DTSTAMP:20260421T150422Z
DESCRIPTION:\n \n \nThe next Solo/Small Firm section meeting will be held on April 28 at noon at Matt's Rancho Martinez located at 401 Central Expressway South in Allen.\n \nPresentation: What Judges Wish Both In-House Counsel and Trial Lawyers Knew\n \nThis presentation by two sitting District Court judges will involve a discussion of common misconceptions about the operations of Texas trial courts and additional facts pertinent to both in-house counsel and outside litigation counsel.\n \nSpeakers: \n \n\n \nHon. Jennifer Edgeworth (219th District Court, Collin County)\n \n\n \nHon. Kathryn Pruitt (494th District Court, Collin County)\n \nRSVP FOR THE MEETING BELOW\n \nRSVP DEADLINE:  APRIL 24, NOON\n \nIMPORTANT NOTE: THE CLE SUBMISSION LINK WILL BE DISPLAYED ON THE RSVP CONFIRMATION RECEIPT IMMEDIATELY AFTER REGISTRATION. SAVE THE LINK FOR THE DAY OF THE MEETING! \n \n \n \n \nNOTE: \nAll general meetings, section meetings, and events hosted by CCBA will be open to CCBA Members and guests of CCBA Members only. CCBA meetings and section meetings are not open to the general public any longer. If a non-member would like to attend a meeting or event, the non-member has the option of becoming a CCBA Member or have a current CCBA member sponsor his or her attendance at a meeting or event. Non-members will be contacted for approved member sponsor name (or include sponsor name in the SPECIAL REQUESTS). You do not have to be a member of specific CCBA section to attend the meeting for that section, just a member of CCBA or a guest of a member of CCBA.. This is to protect the members of our Bar Association. \n  \nNON-MEMBERS: Join the Collin County Bar Association (must join prior to registration to register as a member): \n \nhttps://www.collincountybar.org/members/application\n \n \n \n
SUMMARY:Solo/Small Firm Section Meeting - Collin County Bar Association 
PRIORITY:3
BEGIN:VALARM
TRIGGER:PT18H
ACTION:DISPLAY
DESCRIPTION:Reminder
END:VALARM
END:VEVENT
END:VCALENDAR