BEGIN:VCALENDAR
PRODID:-//hacksw/handcal//NONSGML v1.0//EN
VERSION:2.0
METHOD:PUBLISH
BEGIN:VEVENT
DTSTART:20260723T170000Z
DTEND:20260723T180000Z
LOCATION:
UID:2946420260723T170000ZFamily Law Section Meeting
DTSTAMP:20260422T172632Z
DESCRIPTION:\nSituations where Business Law Intersects with Family Law\n \nSam Johnson\n
SUMMARY:Family Law Section Meeting - Collin County Bar Association 
PRIORITY:3
BEGIN:VALARM
TRIGGER:PT18H
ACTION:DISPLAY
DESCRIPTION:Reminder
END:VALARM
END:VEVENT
END:VCALENDAR