BEGIN:VCALENDAR
PRODID:-//hacksw/handcal//NONSGML v1.0//EN
VERSION:2.0
METHOD:PUBLISH
BEGIN:VEVENT
DTSTART:20260827T170000Z
DTEND:20260827T180000Z
LOCATION:
UID:2946520260827T170000ZFamily Law Section Meeting (NO MEETING)
DTSTAMP:20260422T182414Z
DESCRIPTION:\nNO MEETING\n
SUMMARY:Family Law Section Meeting (NO MEETING) - Collin County Bar Association 
PRIORITY:3
BEGIN:VALARM
TRIGGER:PT18H
ACTION:DISPLAY
DESCRIPTION:Reminder
END:VALARM
END:VEVENT
END:VCALENDAR