BEGIN:VCALENDAR
PRODID:-//hacksw/handcal//NONSGML v1.0//EN
VERSION:2.0
METHOD:PUBLISH
BEGIN:VEVENT
DTSTART:20261126T180000Z
DTEND:20261126T190000Z
LOCATION:
UID:2946820261126T180000ZFamily Law Section Meeting (NO MEETING)
DTSTAMP:20260422T182843Z
DESCRIPTION:\nNO MEETING\n
SUMMARY:Family Law Section Meeting (NO MEETING) - Collin County Bar Association 
PRIORITY:3
BEGIN:VALARM
TRIGGER:PT18H
ACTION:DISPLAY
DESCRIPTION:Reminder
END:VALARM
END:VEVENT
END:VCALENDAR